BEGIN:VCALENDAR
VERSION:2.0
PRODID:-//Evanston Animal Shelter - ECPv6.15.14//NONSGML v1.0//EN
CALSCALE:GREGORIAN
METHOD:PUBLISH
X-ORIGINAL-URL:https://evanstonanimalshelter.net
X-WR-CALDESC:Events for Evanston Animal Shelter
REFRESH-INTERVAL;VALUE=DURATION:PT1H
X-Robots-Tag:noindex
X-PUBLISHED-TTL:PT1H
BEGIN:VTIMEZONE
TZID:America/Chicago
BEGIN:DAYLIGHT
TZOFFSETFROM:-0600
TZOFFSETTO:-0500
TZNAME:CDT
DTSTART:20250309T080000
END:DAYLIGHT
BEGIN:STANDARD
TZOFFSETFROM:-0500
TZOFFSETTO:-0600
TZNAME:CST
DTSTART:20251102T070000
END:STANDARD
BEGIN:DAYLIGHT
TZOFFSETFROM:-0600
TZOFFSETTO:-0500
TZNAME:CDT
DTSTART:20260308T080000
END:DAYLIGHT
BEGIN:STANDARD
TZOFFSETFROM:-0500
TZOFFSETTO:-0600
TZNAME:CST
DTSTART:20261101T070000
END:STANDARD
BEGIN:DAYLIGHT
TZOFFSETFROM:-0600
TZOFFSETTO:-0500
TZNAME:CDT
DTSTART:20270314T080000
END:DAYLIGHT
BEGIN:STANDARD
TZOFFSETFROM:-0500
TZOFFSETTO:-0600
TZNAME:CST
DTSTART:20271107T070000
END:STANDARD
END:VTIMEZONE
BEGIN:VEVENT
DTSTART;TZID=America/Chicago:20260516T090000
DTEND;TZID=America/Chicago:20260516T120000
DTSTAMP:20260421T102547
CREATED:20260414T150252Z
LAST-MODIFIED:20260418T170649Z
UID:20273-1778922000-1778932800@evanstonanimalshelter.net
SUMMARY:Vaccine Clinic May 2026
DESCRIPTION:We are so excited to host our first annual vaccine clinic in partnership with Cook County Department of Animal and Rabies Control of the year! \nThis event is by appointment only and free to Cook County residents. We can serve 125 cats and dogs\, providing services of Rabies\, DAPP\, FRCP vaccines as well as microchips. Sign up at the link.
URL:https://evanstonanimalshelter.net/event/vaccine-clinic/
LOCATION:Evanston Animal Shelter\, 2310 Oakton St.\, Evanston\, IL\, 60202\, United States
END:VEVENT
BEGIN:VEVENT
DTSTART;TZID=America/Chicago:20260711T090000
DTEND;TZID=America/Chicago:20260711T120000
DTSTAMP:20260421T102547
CREATED:20260418T171412Z
LAST-MODIFIED:20260418T171412Z
UID:20294-1783760400-1783771200@evanstonanimalshelter.net
SUMMARY:Trot for Tails 2026
DESCRIPTION:Join us for our annual Trot for Tails! Stay tuned for more details. \nIf you are a business that wishes to sponsor our event\, please email us at easadoptions@gmail.com!
URL:https://evanstonanimalshelter.net/event/trot-for-tails-2026/
LOCATION:Centennial Park\, Sheridan Road between Clark Street and Church Street\, Evanston\, IL\, 60201\, United States
END:VEVENT
BEGIN:VEVENT
DTSTART;VALUE=DATE:20261017
DTEND;VALUE=DATE:20261018
DTSTAMP:20260421T102547
CREATED:20260117T000009Z
LAST-MODIFIED:20260117T000009Z
UID:19641-1792195200-1792281599@evanstonanimalshelter.net
SUMMARY:Tails About Town Gala for the Evanston Animal Shelter
DESCRIPTION:Save the date! More details to come.
URL:https://evanstonanimalshelter.net/event/tails-about-town-gala-for-the-evanston-animal-shelter-2/
LOCATION:IL
END:VEVENT
END:VCALENDAR