BEGIN:VCALENDAR
VERSION:2.0
PRODID:-//Evanston Animal Shelter - ECPv6.15.14//NONSGML v1.0//EN
CALSCALE:GREGORIAN
METHOD:PUBLISH
X-WR-CALNAME:Evanston Animal Shelter
X-ORIGINAL-URL:https://evanstonanimalshelter.net
X-WR-CALDESC:Events for Evanston Animal Shelter
REFRESH-INTERVAL;VALUE=DURATION:PT1H
X-Robots-Tag:noindex
X-PUBLISHED-TTL:PT1H
BEGIN:VTIMEZONE
TZID:America/Chicago
BEGIN:DAYLIGHT
TZOFFSETFROM:-0600
TZOFFSETTO:-0500
TZNAME:CDT
DTSTART:20170312T080000
END:DAYLIGHT
BEGIN:STANDARD
TZOFFSETFROM:-0500
TZOFFSETTO:-0600
TZNAME:CST
DTSTART:20171105T070000
END:STANDARD
BEGIN:DAYLIGHT
TZOFFSETFROM:-0600
TZOFFSETTO:-0500
TZNAME:CDT
DTSTART:20180311T080000
END:DAYLIGHT
BEGIN:STANDARD
TZOFFSETFROM:-0500
TZOFFSETTO:-0600
TZNAME:CST
DTSTART:20181104T070000
END:STANDARD
BEGIN:DAYLIGHT
TZOFFSETFROM:-0600
TZOFFSETTO:-0500
TZNAME:CDT
DTSTART:20190310T080000
END:DAYLIGHT
BEGIN:STANDARD
TZOFFSETFROM:-0500
TZOFFSETTO:-0600
TZNAME:CST
DTSTART:20191103T070000
END:STANDARD
BEGIN:DAYLIGHT
TZOFFSETFROM:-0600
TZOFFSETTO:-0500
TZNAME:CDT
DTSTART:20200308T080000
END:DAYLIGHT
BEGIN:STANDARD
TZOFFSETFROM:-0500
TZOFFSETTO:-0600
TZNAME:CST
DTSTART:20201101T070000
END:STANDARD
END:VTIMEZONE
BEGIN:VEVENT
DTSTART;TZID=America/Chicago:20190302T130000
DTEND;TZID=America/Chicago:20190302T150000
DTSTAMP:20260421T025520
CREATED:20190209T022428Z
LAST-MODIFIED:20190217T000617Z
UID:8651-1551531600-1551538800@evanstonanimalshelter.net
SUMMARY:Bark by the Park Adoption Event
DESCRIPTION:  \n \nCome meet some of our adoptable animals!
URL:https://evanstonanimalshelter.net/event/bark-by-the-park-adoption-event/
LOCATION:Bark by the Park: Dog + Cat Boutique\, 2936 N Clark St\, Chicago\, IL\, 60657\, United States
END:VEVENT
BEGIN:VEVENT
DTSTART;TZID=America/Chicago:20190216T130000
DTEND;TZID=America/Chicago:20190216T150000
DTSTAMP:20260421T025520
CREATED:20190203T172152Z
LAST-MODIFIED:20190203T172152Z
UID:8609-1550322000-1550329200@evanstonanimalshelter.net
SUMMARY:Athleta Adoption Event
DESCRIPTION:  \n \nCome meet some of our adoptable animals!
URL:https://evanstonanimalshelter.net/event/athleta-adoption-event/
LOCATION:Athleta\, 4999 Old Orchard Shopping Center Suite B10\, Skokie\, IL\, 60077
END:VEVENT
BEGIN:VEVENT
DTSTART;TZID=America/Chicago:20190209T100000
DTEND;TZID=America/Chicago:20190209T120000
DTSTAMP:20260421T025520
CREATED:20190123T024201Z
LAST-MODIFIED:20190123T024201Z
UID:8490-1549706400-1549713600@evanstonanimalshelter.net
SUMMARY:Bentley's Adoption Event
DESCRIPTION:  \n \nCome meet some of our adoptable animals!
URL:https://evanstonanimalshelter.net/event/bentleys-adoption-event-4/
LOCATION:Bentley’s Pet Stuff Evanston\, 743 Chicago Avenue\, Evanston\, IL\, 60202\, United States
END:VEVENT
BEGIN:VEVENT
DTSTART;TZID=America/Chicago:20190126T143000
DTEND;TZID=America/Chicago:20190126T160000
DTSTAMP:20260421T025520
CREATED:20181219T040149Z
LAST-MODIFIED:20181219T040149Z
UID:7999-1548513000-1548518400@evanstonanimalshelter.net
SUMMARY:Nail Trim Fundraiser
DESCRIPTION:Bring in your cat or dog for a $15 nail trim by Dr. Henry of Evanston Animal Hospital and all proceeds will be donated to us! \nSponsored by Evanston Animal Hospital and PetPeople.
URL:https://evanstonanimalshelter.net/event/nail-trim-fundraiser-4/
LOCATION:PetPeople\, 2672 Green Bay Rd.\, Evanston\, IL\, 60201\, United States
END:VEVENT
BEGIN:VEVENT
DTSTART;TZID=America/Chicago:20190126T100000
DTEND;TZID=America/Chicago:20190126T120000
DTSTAMP:20260421T025520
CREATED:20181209T200405Z
LAST-MODIFIED:20181209T200405Z
UID:7970-1548496800-1548504000@evanstonanimalshelter.net
SUMMARY:PetPeople Adoption Event
DESCRIPTION:  \n[easy-image-collage id=4624] \nCome meet some of our adoptable animals!
URL:https://evanstonanimalshelter.net/event/petpeople-adoption-event-6/
LOCATION:PetPeople\, 2672 Green Bay Rd.\, Evanston\, IL\, 60201\, United States
END:VEVENT
BEGIN:VEVENT
DTSTART;TZID=America/Chicago:20190112T120000
DTEND;TZID=America/Chicago:20190112T140000
DTSTAMP:20260421T025520
CREATED:20181209T200454Z
LAST-MODIFIED:20181209T200454Z
UID:7972-1547294400-1547301600@evanstonanimalshelter.net
SUMMARY:Macy's Adoption Event
DESCRIPTION:  \n[easy-image-collage id=4624] \nCome meet some of our adoptable animals!
URL:https://evanstonanimalshelter.net/event/macys-adoption-event-3/
LOCATION:Macy’s Old Orchard\, 1 Old Orchard Shopping Center\, Skokie\, IL\, 60077\, United States
END:VEVENT
BEGIN:VEVENT
DTSTART;TZID=America/Chicago:20181215T140000
DTEND;TZID=America/Chicago:20181215T170000
DTSTAMP:20260421T025520
CREATED:20181204T171514Z
LAST-MODIFIED:20181204T171514Z
UID:7942-1544882400-1544893200@evanstonanimalshelter.net
SUMMARY:Kittenpalooza II
DESCRIPTION:
URL:https://evanstonanimalshelter.net/event/kittenpalooza-ii/
LOCATION:Evanston Animal Hospital\, 516 Dempster Street\, Evanston\, IL\, 60202\, United States
END:VEVENT
BEGIN:VEVENT
DTSTART;TZID=America/Chicago:20181215T100000
DTEND;TZID=America/Chicago:20181215T120000
DTSTAMP:20260421T025520
CREATED:20181020T144106Z
LAST-MODIFIED:20181020T144106Z
UID:7708-1544868000-1544875200@evanstonanimalshelter.net
SUMMARY:PetPeople Adoption Event
DESCRIPTION:  \n[easy-image-collage id=4624] \nCome meet some of our adoptable animals!
URL:https://evanstonanimalshelter.net/event/petpeople-adoption-event-5/
LOCATION:PetPeople\, 2672 Green Bay Rd.\, Evanston\, IL\, 60201\, United States
END:VEVENT
BEGIN:VEVENT
DTSTART;TZID=America/Chicago:20181117T143000
DTEND;TZID=America/Chicago:20181117T160000
DTSTAMP:20260421T025520
CREATED:20181020T143733Z
LAST-MODIFIED:20181020T143733Z
UID:7702-1542465000-1542470400@evanstonanimalshelter.net
SUMMARY:Nail Trim Fundraiser
DESCRIPTION:Bring in your cat or dog for a $15 nail trim by Dr. Henry of Evanston Animal Hospital and all proceeds will be donated to us! \nSponsored by Evanston Animal Hospital and PetPeople.
URL:https://evanstonanimalshelter.net/event/nail-trim-fundraiser-3/
LOCATION:PetPeople\, 2672 Green Bay Rd.\, Evanston\, IL\, 60201\, United States
END:VEVENT
BEGIN:VEVENT
DTSTART;TZID=America/Chicago:20181117T100000
DTEND;TZID=America/Chicago:20181117T120000
DTSTAMP:20260421T025520
CREATED:20181020T144011Z
LAST-MODIFIED:20181020T144011Z
UID:7706-1542448800-1542456000@evanstonanimalshelter.net
SUMMARY:PetPeople Adoption Event
DESCRIPTION:  \n[easy-image-collage id=4624] \nCome meet some of our adoptable animals!
URL:https://evanstonanimalshelter.net/event/petpeople-adoption-event-4/
LOCATION:PetPeople\, 2672 Green Bay Rd.\, Evanston\, IL\, 60201\, United States
END:VEVENT
BEGIN:VEVENT
DTSTART;TZID=America/Chicago:20181027T100000
DTEND;TZID=America/Chicago:20181027T120000
DTSTAMP:20260421T025520
CREATED:20180922T175119Z
LAST-MODIFIED:20180922T175119Z
UID:7526-1540634400-1540641600@evanstonanimalshelter.net
SUMMARY:Trick or Treat Trot for Tails Walkathon
DESCRIPTION:Join us for our Fourth Annual Trick or Treat Trot for Tails Walkathon! \nTrick or Treat Trot for Tails Walkathon is a fundraiser for the Evanston Animal Shelter Association\, the nonprofit organization that funds and manages the care of the animals at the Evanston Animal Shelter. Registrants sign up to walk\, create a goal to raise money\, and get friends and family to donate! The walk is 2 miles long. Walkers will start at Centennial Park\, walk to Lee Street\, and walk back to Centennial Park. \nThe walk is dog and family friendly\, so bring your whole crew and we’ll see you there! Dress up in costume and we’ll have treats along the way – for you and your pup! Your pet can also participate in our pet costume contest!
URL:https://evanstonanimalshelter.net/event/trick-or-treat-trot-for-tails-walkathon-2/
LOCATION:IL
END:VEVENT
BEGIN:VEVENT
DTSTART;TZID=America/Chicago:20181020T120000
DTEND;TZID=America/Chicago:20181020T140000
DTSTAMP:20260421T025520
CREATED:20180916T221754Z
LAST-MODIFIED:20180916T221754Z
UID:7462-1540036800-1540044000@evanstonanimalshelter.net
SUMMARY:Pet Supplies Plus Adoption Event
DESCRIPTION:  \n[easy-image-collage id=4624] \nCome meet some of our adoptable animals!
URL:https://evanstonanimalshelter.net/event/pet-supplies-plus-adoption-event-3/
LOCATION:Pet Supplies Plus\, 1916 Dempster Street\, Evanston\, IL\, 60202
END:VEVENT
BEGIN:VEVENT
DTSTART;TZID=America/Chicago:20181006T110000
DTEND;TZID=America/Chicago:20181006T130000
DTSTAMP:20260421T025520
CREATED:20180916T221651Z
LAST-MODIFIED:20180916T221651Z
UID:7460-1538823600-1538830800@evanstonanimalshelter.net
SUMMARY:Macy's Adoption Event
DESCRIPTION:  \n[easy-image-collage id=4624] \nCome meet some of our adoptable animals!
URL:https://evanstonanimalshelter.net/event/macys-adoption-event-2/
LOCATION:Macy’s Old Orchard\, 1 Old Orchard Shopping Center\, Skokie\, IL\, 60077\, United States
END:VEVENT
BEGIN:VEVENT
DTSTART;TZID=America/Chicago:20180929T100000
DTEND;TZID=America/Chicago:20180929T120000
DTSTAMP:20260421T025520
CREATED:20180809T015929Z
LAST-MODIFIED:20180809T015929Z
UID:7274-1538215200-1538222400@evanstonanimalshelter.net
SUMMARY:PetSmart Adoption Event
DESCRIPTION:  \n[easy-image-collage id=4624] \nCome meet some of our adoptable animals!
URL:https://evanstonanimalshelter.net/event/petsmart-adoption-event/
LOCATION:PetSmart Northbrook\, 291 Skokie Blvd\, Northbrook\, IL\, 60062\, United States
END:VEVENT
BEGIN:VEVENT
DTSTART;TZID=America/Chicago:20180915T143000
DTEND;TZID=America/Chicago:20180915T163000
DTSTAMP:20260421T025520
CREATED:20180815T010418Z
LAST-MODIFIED:20180815T010418Z
UID:7302-1537021800-1537029000@evanstonanimalshelter.net
SUMMARY:Nail Trim Fundraiser
DESCRIPTION:Bring in your cat or dog for a $15 nail trim by Dr. Henry of Evanston Animal Hospital and all proceeds will be donated to us! \nSponsored by Evanston Animal Hospital and PetPeople.
URL:https://evanstonanimalshelter.net/event/nail-trim-fundraiser-2/
LOCATION:PetPeople\, 2672 Green Bay Rd.\, Evanston\, IL\, 60201\, United States
END:VEVENT
BEGIN:VEVENT
DTSTART;TZID=America/Chicago:20180915T100000
DTEND;TZID=America/Chicago:20180915T120000
DTSTAMP:20260421T025520
CREATED:20180809T015511Z
LAST-MODIFIED:20180809T015511Z
UID:7272-1537005600-1537012800@evanstonanimalshelter.net
SUMMARY:PetPeople Adoption Event
DESCRIPTION:  \n[easy-image-collage id=4624] \nCome meet some of our adoptable animals!
URL:https://evanstonanimalshelter.net/event/petpeople-adoption-event-3/
LOCATION:PetPeople\, 2672 Green Bay Rd.\, Evanston\, IL\, 60201\, United States
END:VEVENT
BEGIN:VEVENT
DTSTART;TZID=America/Chicago:20180827T103000
DTEND;TZID=America/Chicago:20180827T213000
DTSTAMP:20260421T025520
CREATED:20180809T020556Z
LAST-MODIFIED:20180809T020621Z
UID:7278-1535365800-1535405400@evanstonanimalshelter.net
SUMMARY:Shake Shack Donation Day
DESCRIPTION:Bring in this flyer or mention Evanston Animal Shelter when you dine at Shake Shack Old Orchard on August 27 and 25% of your purchase will be donated to us!\nDonation Day Flyer
URL:https://evanstonanimalshelter.net/event/shake-shack-donation-day/
LOCATION:Shake Shack\, 4999 Old Orchard Shopping Center\, Skokie\, IL\, 60077\, United States
END:VEVENT
BEGIN:VEVENT
DTSTART;TZID=America/Chicago:20180825T110000
DTEND;TZID=America/Chicago:20180825T130000
DTSTAMP:20260421T025520
CREATED:20180818T135239Z
LAST-MODIFIED:20180818T135239Z
UID:7322-1535194800-1535202000@evanstonanimalshelter.net
SUMMARY:Macy's Adoption Event
DESCRIPTION:  \n[easy-image-collage id=4624] \nCome meet some of our adoptable animals!
URL:https://evanstonanimalshelter.net/event/macys-adoption-event/
LOCATION:Macy’s Old Orchard\, 1 Old Orchard Shopping Center\, Skokie\, IL\, 60077\, United States
END:VEVENT
BEGIN:VEVENT
DTSTART;TZID=America/Chicago:20180818T133000
DTEND;TZID=America/Chicago:20180818T153000
DTSTAMP:20260421T025520
CREATED:20180726T021755Z
LAST-MODIFIED:20180726T021755Z
UID:7165-1534599000-1534606200@evanstonanimalshelter.net
SUMMARY:Bentley's Block Party
DESCRIPTION:Join us and some adoptable animals at Bentley’s Block Party! You can also bring your dog and have him or or painted by a pet portrait artist!
URL:https://evanstonanimalshelter.net/event/bentleys-block-party/
LOCATION:Bentley’s Pet Stuff Skokie\, 5229 Touhy Avenue\, Skokie\, IL\, 60077\, United States
END:VEVENT
BEGIN:VEVENT
DTSTART;TZID=America/Chicago:20180818T130000
DTEND;TZID=America/Chicago:20180818T170000
DTSTAMP:20260421T025520
CREATED:20180809T015244Z
LAST-MODIFIED:20180809T015244Z
UID:7267-1534597200-1534611600@evanstonanimalshelter.net
SUMMARY:Kittenpalooza
DESCRIPTION:Come meet more than 30 adoptable kittens! Find a pair you like and take them home!
URL:https://evanstonanimalshelter.net/event/kittenpalooza/
LOCATION:Evanston Animal Hospital\, 516 Dempster Street\, Evanston\, IL\, 60202\, United States
END:VEVENT
BEGIN:VEVENT
DTSTART;TZID=America/Chicago:20180811T143000
DTEND;TZID=America/Chicago:20180811T163000
DTSTAMP:20260421T025520
CREATED:20180726T021210Z
LAST-MODIFIED:20180726T021210Z
UID:7163-1533997800-1534005000@evanstonanimalshelter.net
SUMMARY:Nail Trim Fundraiser
DESCRIPTION:Bring in your cat or dog for a $15 nail trim by Dr. Henry of Evanston Animal Hospital and all proceeds will be donated to us! \nSponsored by Evanston Animal Hospital and PetPeople.
URL:https://evanstonanimalshelter.net/event/nail-trim-fundraiser/
LOCATION:PetPeople\, 2672 Green Bay Rd.\, Evanston\, IL\, 60201\, United States
END:VEVENT
BEGIN:VEVENT
DTSTART;TZID=America/Chicago:20180807T180000
DTEND;TZID=America/Chicago:20180807T200000
DTSTAMP:20260421T025520
CREATED:20180726T020745Z
LAST-MODIFIED:20180726T020745Z
UID:7160-1533664800-1533672000@evanstonanimalshelter.net
SUMMARY:National Night Out
DESCRIPTION:
URL:https://evanstonanimalshelter.net/event/national-night-out-3/
LOCATION:Evanston Animal Shelter\, 2310 Oakton St.\, Evanston\, IL\, 60202\, United States
END:VEVENT
BEGIN:VEVENT
DTSTART;TZID=America/Chicago:20180801T100000
DTEND;TZID=America/Chicago:20180815T210000
DTSTAMP:20260421T025520
CREATED:20180726T022310Z
LAST-MODIFIED:20180726T022310Z
UID:7169-1533117600-1534366800@evanstonanimalshelter.net
SUMMARY:The Big Give Back – Make Good Cents for Your Community
DESCRIPTION:From 8/1-8/15 at Macy’s Old Orchard\, customers can round up their purchase(s) and donate their change (up to $0.99) to the Evanston Animal Shelter! The charity that raises the most funds at each store will receive a matched donation from Macy’s\, up to $1\,000.
URL:https://evanstonanimalshelter.net/event/the-big-give-back-make-good-cents-for-your-community/
LOCATION:Macy’s Old Orchard\, 1 Old Orchard Shopping Center\, Skokie\, IL\, 60077\, United States
END:VEVENT
BEGIN:VEVENT
DTSTART;TZID=America/Chicago:20180728T100000
DTEND;TZID=America/Chicago:20180728T120000
DTSTAMP:20260421T025520
CREATED:20180726T020630Z
LAST-MODIFIED:20180726T020630Z
UID:7158-1532772000-1532779200@evanstonanimalshelter.net
SUMMARY:PetPeople Adoption Event
DESCRIPTION:  \n[easy-image-collage id=4624] \nCome meet some of our adoptable animals!
URL:https://evanstonanimalshelter.net/event/petpeople-adoption-event-2/
LOCATION:PetPeople\, 2672 Green Bay Rd.\, Evanston\, IL\, 60201\, United States
END:VEVENT
BEGIN:VEVENT
DTSTART;TZID=America/Chicago:20180714T100000
DTEND;TZID=America/Chicago:20180714T120000
DTSTAMP:20260421T025520
CREATED:20180520T195403Z
LAST-MODIFIED:20180520T195403Z
UID:6820-1531562400-1531569600@evanstonanimalshelter.net
SUMMARY:Bentley's Adoption Event
DESCRIPTION:  \n[easy-image-collage id=4624] \nCome meet some of our adoptable animals!
URL:https://evanstonanimalshelter.net/event/bentleys-adoption-event-3/
LOCATION:Bentley’s Pet Stuff Evanston\, 743 Chicago Avenue\, Evanston\, IL\, 60202\, United States
END:VEVENT
BEGIN:VEVENT
DTSTART;TZID=America/Chicago:20180707T120000
DTEND;TZID=America/Chicago:20180707T160000
DTSTAMP:20260421T025520
CREATED:20180520T195741Z
LAST-MODIFIED:20180520T195741Z
UID:6822-1530964800-1530979200@evanstonanimalshelter.net
SUMMARY:PAWS Angels with Tails Winnetka Adoption Event
DESCRIPTION:  \n[easy-image-collage id=4624] \nCome meet some of our adoptable animals – we will have puppies and kittens! The event will be held in Winnetka along Lincoln Avenue and Elm. Stay tuned for which store we will be at!
URL:https://evanstonanimalshelter.net/event/paws-angels-with-tails-winnetka-adoption-event/
LOCATION:IL
END:VEVENT
BEGIN:VEVENT
DTSTART;TZID=America/Chicago:20180704T133000
DTEND;TZID=America/Chicago:20180704T133000
DTSTAMP:20260421T025520
CREATED:20180629T034944Z
LAST-MODIFIED:20180629T034944Z
UID:6948-1530711000-1530711000@evanstonanimalshelter.net
SUMMARY:March with EAS in the Evanston 4th of July Parade
DESCRIPTION:Bring family and friends. Dog-friendly dogs are welcome too!\nWhere: Cowper Ave\, between Central & Harrison\, along Bent Park (Sector 5)\nTime: Parade starts at 2:00 pm. Arrive at our location by 1:30 pm.\nParking: Ryan Field\, parade endpoint\, or side streets south of Harrison
URL:https://evanstonanimalshelter.net/event/march-with-eas-in-the-evanston-4th-of-july-parade/
LOCATION:We’ll meet on Cowper Ave\, between Central & Harrison (along Bent Park)
END:VEVENT
BEGIN:VEVENT
DTSTART;TZID=America/Chicago:20180623T100000
DTEND;TZID=America/Chicago:20180623T120000
DTSTAMP:20260421T025520
CREATED:20180512T145025Z
LAST-MODIFIED:20180512T145025Z
UID:6813-1529748000-1529755200@evanstonanimalshelter.net
SUMMARY:Pet Supplies Plus Adoption Event
DESCRIPTION:  \n[easy-image-collage id=4624] \nCome meet some of our adoptable animals!
URL:https://evanstonanimalshelter.net/event/pet-supplies-plus-adoption-event-2/
LOCATION:Pet Supplies Plus\, 1916 Dempster Street\, Evanston\, IL\, 60202
END:VEVENT
BEGIN:VEVENT
DTSTART;TZID=America/Chicago:20180616T113000
DTEND;TZID=America/Chicago:20180616T133000
DTSTAMP:20260421T025520
CREATED:20180421T135631Z
LAST-MODIFIED:20180421T135631Z
UID:6688-1529148600-1529155800@evanstonanimalshelter.net
SUMMARY:Randoons Lemonade Stand
DESCRIPTION:Randoons will be hosting us for their lemonade stand fundraiser! Come out to support us by buying some lemonade and meeting some dogs!
URL:https://evanstonanimalshelter.net/event/randoons-lemonade-stand/
LOCATION:Randoons\, 962 1/2 Green Bay Rd\, Winnetka\, IL\, 60093\, United States
END:VEVENT
BEGIN:VEVENT
DTSTART;TZID=America/Chicago:20180609T110000
DTEND;TZID=America/Chicago:20180609T130000
DTSTAMP:20260421T025520
CREATED:20180512T144700Z
LAST-MODIFIED:20180512T144700Z
UID:6811-1528542000-1528549200@evanstonanimalshelter.net
SUMMARY:Caturday Adoption Event
DESCRIPTION:  \n[easy-image-collage id=4624] \nCome meet some of our adoptable animals!
URL:https://evanstonanimalshelter.net/event/caturday-adoption-event/
LOCATION:PetPeople\, 2672 Green Bay Rd.\, Evanston\, IL\, 60201\, United States
END:VEVENT
END:VCALENDAR